Workbook

Sheet The Exceptional Private Cellar 
A1: NOTICE: This is not an auction catalogue. This lot listing is provided to you as a courtesy and in accordance with your agreement to the Conditions of Sale found on our website and at the back of the sale catalogue. This lot listing includes lots which are, as of date of this document, offered for sale at auction. Please see full lot descriptions, further details and notices and the Conditions of Sale for additional information before bidding. Christie’s offers these absentee bidding services as a convenience to our clients, but will not be responsible for errors or failures to execute bids. Please note that buyers are expected to remove their property within seven calendar days of the auction. Please refer to Shipping and Collection of Wine under Important Notices for collection information for purchased lots. To complete your bid registration, please email your completed lot listing to USWine@christies.com
A3: The Exceptional Private Cellar of a Silicon Valley Pioneer
A5: Sale Date: 05 Jun 2026 , Sale Location : New York
A7: 5 June 2026, 10:00am
A8: Lot Listing as of 11:30AM EST on May 14th, 2026 PIONEER_24554, Sale Location: New York, Christie's Inc. & Jean-Paul Weg, LLC, Auction License ID 0531-25-02952
A10: I / We understand that all lots purchased are subject to the Buyer’s Premium and any applicable taxes, and that Christie’s ONLY accepts payment from the account holder named on the invoice. Signature: ____________________________________________ Date: _________________
A11: Sale # | B11: Lot | C11: Qty | D11: Size | E11: Pacakaging | F11: Vintage | G11: Name | H11: Catalogue and Condition Notes | I11: Region | J11: Country | K11: Low Estimate | L11: High Estimate | M11: Max $ Limit Of Absentee Bid (excluding Buyer’s Premium) | N11: Validate | O11: View Lot Details | P11: formula
A12: 24554 | B12: 1 | C12: 12 | D12: Bottles (75cl) | E12: (owc) | F12: 1990 | G12: Château Lafite Rothschild | H12: Pauillac, 1er Cru Classé u.bnob | I12: Pauillac | J12: France | K12: 7500 | L12: 10000 | N12: =IF(M12="","",IF(P12=1,"On Increment","Off Increment")) | O12: View Lot Details | P12: =COUNTIF('Bid Steps'!A:A,M12) -> 0
A13: 24554 | B13: 2 | C13: 12 | D13: Bottles (75cl) | E13: (owc) | F13: 1989 | G13: Château Lafite Rothschild | H13: Pauillac, 1er Cru Classé u.bnob | I13: Pauillac | J13: France | K13: 5500 | L13: 7500 | N13: =IF(M13="","",IF(P13=1,"On Increment","Off Increment")) | O13: View Lot Details | P13: =COUNTIF('Bid Steps'!A:A,M13) -> 0
A14: 24554 | B14: 3 | C14: 12 | D14: Bottles (75cl) | E14: (owc) | F14: 1986 | G14: Château Lafite Rothschild | H14: Pauillac, 1er Cru Classé u.bnob, owc no lid | I14: Pauillac | J14: France | K14: 8000 | L14: 11000 | N14: =IF(M14="","",IF(P14=1,"On Increment","Off Increment")) | O14: View Lot Details | P14: =COUNTIF('Bid Steps'!A:A,M14) -> 0
A15: 24554 | B15: 4 | C15: 10 | D15: Bottles (75cl) | E15: (owc) | F15: 1982 | G15: Château Lafite Rothschild | H15: Pauillac, 1er Cru Classé u.1ts, 7us, 2um/s, 1 nicked capsule, owc no lid | I15: Pauillac | J15: France | K15: 11000 | L15: 16000 | N15: =IF(M15="","",IF(P15=1,"On Increment","Off Increment")) | O15: View Lot Details | P15: =COUNTIF('Bid Steps'!A:A,M15) -> 0
A16: 24554 | B16: 5 | C16: 6 | D16: Bottles (75cl) | E16: (owc) | F16: 1976 | G16: Château Lafite Rothschild | H16: Pauillac, 1er Cru Classé u.4ts, 1jbts, 1us, slighty bin-soiled labels, owc no lid | I16: Pauillac | J16: France | K16: 2400 | L16: 3200 | N16: =IF(M16="","",IF(P16=1,"On Increment","Off Increment")) | O16: View Lot Details | P16: =COUNTIF('Bid Steps'!A:A,M16) -> 0
A17: 24554 | B17: 6 | C17: 8 | D17: Bottles (75cl) | E17: (owc) | F17: 1975 | G17: Château Lafite Rothschild | H17: Pauillac, 1er Cru Classé u.5bn, 3vts, owc no lid | I17: Pauillac | J17: France | K17: 3200 | L17: 4200 | N17: =IF(M17="","",IF(P17=1,"On Increment","Off Increment")) | O17: View Lot Details | P17: =COUNTIF('Bid Steps'!A:A,M17) -> 0
A18: 24554 | B18: 7 | C18: 6 | D18: Bottles (75cl) | E18: (cn) | F18: 1970 | G18: Château Lafite Rothschild | H18: Pauillac, 1er Cru Classé u.ts, 3 damp affected labels | I18: Pauillac | J18: France | K18: 2200 | L18: 3000 | N18: =IF(M18="","",IF(P18=1,"On Increment","Off Increment")) | O18: View Lot Details | P18: =COUNTIF('Bid Steps'!A:A,M18) -> 0
A19: 24554 | B19: 8 | C19: 12 | D19: Bottles (75cl) | E19: (cn) | F19: 1970 | G19: Château Lafite Rothschild | H19: Pauillac, 1er Cru Classé u.6ts, 2jbts, 2us, 2ms, slightly bin-soiled labels, mixed importers | I19: Pauillac | J19: France | K19: 3500 | L19: 4500 | N19: =IF(M19="","",IF(P19=1,"On Increment","Off Increment")) | O19: View Lot Details | P19: =COUNTIF('Bid Steps'!A:A,M19) -> 0
A20: 24554 | B20: 9 | C20: 10 | D20: Bottles (75cl) | E20: (owc) | F20: 1966 | G20: Château Lafite Rothschild | H20: Pauillac, 1er Cru Classé u.7ts, 2us, 1um/s, slightly bin-soiled labels, slightly oxidized capsules, owc no lid | I20: Pauillac | J20: France | K20: 3500 | L20: 4500 | N20: =IF(M20="","",IF(P20=1,"On Increment","Off Increment")) | O20: View Lot Details | P20: =COUNTIF('Bid Steps'!A:A,M20) -> 0
A21: 24554 | B21: 10 | C21: 12 | D21: Bottles (75cl) | E21: (owc) | F21: 1990 | G21: Château Latour | H21: Pauillac, 1er Cru Classé u.9bnob, 2vts, 1ts | I21: Pauillac | J21: France | K21: 8000 | L21: 11000 | N21: =IF(M21="","",IF(P21=1,"On Increment","Off Increment")) | O21: View Lot Details | P21: =COUNTIF('Bid Steps'!A:A,M21) -> 0
A22: 24554 | B22: 11 | C22: 12 | D22: Bottles (75cl) | E22: (owc) | F22: 1989 | G22: Château Latour | H22: Pauillac, 1er Cru Classé u.bnob | I22: Pauillac | J22: France | K22: 4800 | L22: 6500 | N22: =IF(M22="","",IF(P22=1,"On Increment","Off Increment")) | O22: View Lot Details | P22: =COUNTIF('Bid Steps'!A:A,M22) -> 0
A23: 24554 | B23: 12 | C23: 12 | D23: Bottles (75cl) | E23: (owc) | F23: 1986 | G23: Château Latour | H23: Pauillac, 1er Cru Classé u.10bn, 2vts, owc no lid | I23: Pauillac | J23: France | K23: 4200 | L23: 5500 | N23: =IF(M23="","",IF(P23=1,"On Increment","Off Increment")) | O23: View Lot Details | P23: =COUNTIF('Bid Steps'!A:A,M23) -> 0
A24: 24554 | B24: 13 | C24: 2 | D24: Bottles (75cl) | E24: (cn) | F24: 1986 - 1970 | G24: Château Latour 'Vertical' | H24: Château Latour Pauillac, 1er Cru Classé 1986 (1 Bottle) u.bn 1970 (1 Bottle) u.us, slightly faded label | I24: Pauillac | J24: France | K24: 750 | L24: 1000 | N24: =IF(M24="","",IF(P24=1,"On Increment","Off Increment")) | O24: View Lot Details | P24: =COUNTIF('Bid Steps'!A:A,M24) -> 0
A25: 24554 | B25: 14 | C25: 9 | D25: Bottles (75cl) | E25: (owc) | F25: 1982 | G25: Château Latour | H25: Pauillac, 1er Cru Classé u.3bn,4vts, 2ts, slightly bin-soiled labels, 4 nicked capsules, owc no lid | I25: Pauillac | J25: France | K25: 12000 | L25: 17000 | N25: =IF(M25="","",IF(P25=1,"On Increment","Off Increment")) | O25: View Lot Details | P25: =COUNTIF('Bid Steps'!A:A,M25) -> 0
A26: 24554 | B26: 15 | C26: 11 | D26: Bottles (75cl) | E26: (owc) | F26: 1975 | G26: Château Latour | H26: Pauillac, 1er Cru Classé u.3ts, 6um/s, 2ms, stained labels, recessed capsules, owc no lid | I26: Pauillac | J26: France | K26: 3200 | L26: 4200 | N26: =IF(M26="","",IF(P26=1,"On Increment","Off Increment")) | O26: View Lot Details | P26: =COUNTIF('Bid Steps'!A:A,M26) -> 0
A27: 24554 | B27: 16 | C27: 5 | D27: Bottles (75cl) | E27: (cn) | F27: 1970 | G27: Château Latour | H27: Pauillac, 1er Cru Classé u.2um/s, 3ms, slightly corroded capsules | I27: Pauillac | J27: France | K27: 1900 | L27: 2800 | N27: =IF(M27="","",IF(P27=1,"On Increment","Off Increment")) | O27: View Lot Details | P27: =COUNTIF('Bid Steps'!A:A,M27) -> 0
A28: 24554 | B28: 17 | C28: 12 | D28: Bottles (75cl) | E28: (cn) | F28: 1970 | G28: Château Latour | H28: Pauillac, 1er Cru Classé u.2ts, 2jbts, 2us, 4um/s 2ms, slightly recessed capsules, 1 torn | I28: Pauillac | J28: France | K28: 4500 | L28: 6000 | N28: =IF(M28="","",IF(P28=1,"On Increment","Off Increment")) | O28: View Lot Details | P28: =COUNTIF('Bid Steps'!A:A,M28) -> 0
A29: 24554 | B29: 18 | C29: 10 | D29: Bottles (75cl) | E29: (owc) | F29: 1966 | G29: Château Latour | H29: Pauillac, 1er Cru Classé u.3ts, 2us, 2um/s, 3ms, slightly bin-soiled labels, slightly oxidized capsules, 1 corroded, owc no lid | I29: Pauillac | J29: France | K29: 3000 | L29: 4000 | N29: =IF(M29="","",IF(P29=1,"On Increment","Off Increment")) | O29: View Lot Details | P29: =COUNTIF('Bid Steps'!A:A,M29) -> 0
A30: 24554 | B30: 19 | C30: 10 | D30: Bottles (75cl) | E30: (owc) | F30: 1970 | G30: Les Forts de Latour | H30: Pauillac u.3ts, 7us, slightly bin-soiled and slightly stained labels, owc no lid | I30: Pauillac | J30: France | K30: 850 | L30: 1200 | N30: =IF(M30="","",IF(P30=1,"On Increment","Off Increment")) | O30: View Lot Details | P30: =COUNTIF('Bid Steps'!A:A,M30) -> 0
A31: 24554 | B31: 20 | C31: 12 | D31: Bottles (75cl) | E31: (owc) | F31: 1990 | G31: Château Margaux | H31: Margaux, 1er Cru Classé u.9bnob, 3vts | I31: Margaux | J31: France | K31: 9000 | L31: 13000 | N31: =IF(M31="","",IF(P31=1,"On Increment","Off Increment")) | O31: View Lot Details | P31: =COUNTIF('Bid Steps'!A:A,M31) -> 0
A32: 24554 | B32: 21 | C32: 12 | D32: Bottles (75cl) | E32: (owc) | F32: 1989 | G32: Château Margaux | H32: Margaux, 1er Cru Classé Levels into neck | I32: Margaux | J32: France | K32: 4800 | L32: 6500 | N32: =IF(M32="","",IF(P32=1,"On Increment","Off Increment")) | O32: View Lot Details | P32: =COUNTIF('Bid Steps'!A:A,M32) -> 0
A33: 24554 | B33: 22 | C33: 12 | D33: Bottles (75cl) | E33: (owc) | F33: 1986 | G33: Château Margaux | H33: Margaux, 1er Cru Classé u.bnob, owc no lid | I33: Margaux | J33: France | K33: 4800 | L33: 6500 | N33: =IF(M33="","",IF(P33=1,"On Increment","Off Increment")) | O33: View Lot Details | P33: =COUNTIF('Bid Steps'!A:A,M33) -> 0
A34: 24554 | B34: 23 | C34: 9 | D34: Bottles (75cl) | E34: (owc) | F34: 1982 | G34: Château Margaux | H34: Margaux, 1er Cru Classé u.8tsob, 1us, 1 raised capsule, owc no lid | I34: Margaux | J34: France | K34: 5500 | L34: 7500 | N34: =IF(M34="","",IF(P34=1,"On Increment","Off Increment")) | O34: View Lot Details | P34: =COUNTIF('Bid Steps'!A:A,M34) -> 0
A35: 24554 | B35: 24 | C35: 9 | D35: Bottles (75cl) | E35: (owc) | F35: 1975 | G35: Château Margaux | H35: Margaux, 1er Cru Classé u.4us, 3um/s, 2ms, stained labels, owc no lid | I35: Margaux | J35: France | K35: 2200 | L35: 3000 | N35: =IF(M35="","",IF(P35=1,"On Increment","Off Increment")) | O35: View Lot Details | P35: =COUNTIF('Bid Steps'!A:A,M35) -> 0
A36: 24554 | B36: 25 | C36: 10 | D36: Bottles (75cl) | E36: (cn) | F36: 1970 | G36: Château Margaux | H36: Margaux, 1er Cru Classé u.1ts, 4us, 3um/s, 2ms, slightly bin-soiled labels, 2 capsule styles, 1 cut capsule, 1 sos | I36: Margaux | J36: France | K36: 1500 | L36: 2000 | N36: =IF(M36="","",IF(P36=1,"On Increment","Off Increment")) | O36: View Lot Details | P36: =COUNTIF('Bid Steps'!A:A,M36) -> 0
... A73: 24554 | B73: 62 | C73: 10 | D73: Bottles (75cl) | E73: (owc) | F73: 1975 | G73: Château Lascombes | H73: Margaux, 2ème Cru Classé u.8tsob, 1um/s, 1ms, slightly bin-soiled and scuffed labels, owc no lid | I73: Margaux | J73: France | K73: 500 | L73: 700 | N73: =IF(M73="","",IF(P73=1,"On Increment","Off Increment")) | O73: View Lot Details | P73: =COUNTIF('Bid Steps'!A:A,M73) -> 0
A74: 24554 | B74: 63 | C74: 17 | D74: Bottles (75cl) | E74: (cn,owc) - (cn) | F74: 1970- 1966 | G74: Château Lascombes 'Vertical' | H74: Château Lascombes Margaux, 2ème Cru Classé 1970 (12 Bottles) u.5ts, 4um/s, 3ms, slightly bin-soiled and slightly stained labels, owc no lid 1966 (5 Bottles) u.1ts, 3um/s, 1ms, bin-soiled labels, scuffed | I74: Margaux | J74: France | K74: 650 | L74: 900 | N74: =IF(M74="","",IF(P74=1,"On Increment","Off Increment")) | O74: View Lot Details | P74: =COUNTIF('Bid Steps'!A:A,M74) -> 0
A75: 24554 | B75: 64 | C75: 12 | D75: Bottles (75cl) | E75: (owc) | F75: 1990 | G75: Château Léoville Las Cases | H75: Saint-Julien, 2ème Cru Classé u.11bn, 1ts | I75: Saint-Julien | J75: France | K75: 3200 | L75: 4200 | N75: =IF(M75="","",IF(P75=1,"On Increment","Off Increment")) | O75: View Lot Details | P75: =COUNTIF('Bid Steps'!A:A,M75) -> 0
A76: 24554 | B76: 65 | C76: 12 | D76: Bottles (75cl) | E76: (owc) | F76: 1989 | G76: Château Léoville Las Cases | H76: Saint-Julien, 2ème Cru Classé u.bnob | I76: Saint-Julien | J76: France | K76: 2000 | L76: 2800 | N76: =IF(M76="","",IF(P76=1,"On Increment","Off Increment")) | O76: View Lot Details | P76: =COUNTIF('Bid Steps'!A:A,M76) -> 0
A77: 24554 | B77: 66 | C77: 12 | D77: Bottles (75cl) | E77: (owc) | F77: 1986 | G77: Château Léoville Las Cases | H77: Saint-Julien, 2ème Cru Classé u.9tsob, 2us,1um/s | I77: Saint-Julien | J77: France | K77: 2800 | L77: 3800 | N77: =IF(M77="","",IF(P77=1,"On Increment","Off Increment")) | O77: View Lot Details | P77: =COUNTIF('Bid Steps'!A:A,M77) -> 0
A78: 24554 | B78: 67 | C78: 12 | D78: Bottles (75cl) | E78: (owc) | F78: 1982 | G78: Château Léoville Las Cases | H78: Saint-Julien, 2ème Cru Classé u.10bn, 2vts, 2 torn capsules, owc no lid | I78: Saint-Julien | J78: France | K78: 3800 | L78: 4800 | N78: =IF(M78="","",IF(P78=1,"On Increment","Off Increment")) | O78: View Lot Details | P78: =COUNTIF('Bid Steps'!A:A,M78) -> 0
A79: 24554 | B79: 68 | C79: 10 | D79: Bottles (75cl) | E79: (owc) | F79: 1976 | G79: Château Léoville Las Cases | H79: Saint-Julien, 2ème Cru Classé u.8tsob, 2us, 1 nicked label and 1 stained,owc no lid | I79: Saint-Julien | J79: France | K79: 1000 | L79: 1500 | N79: =IF(M79="","",IF(P79=1,"On Increment","Off Increment")) | O79: View Lot Details | P79: =COUNTIF('Bid Steps'!A:A,M79) -> 0
A80: 24554 | B80: 69 | C80: 8 | D80: Bottles (75cl) | E80: (cn) | F80: 1976- 1966 | G80: Château Léoville Las Cases 'Vertical' | H80: Château Léoville Las Cases Saint-Julien, 2ème Cru Classé 1976 (1 Bottle) u.jbts 1970 (2 Bottles) u.1ts, 1um/s 1966 (5 Bottles) u.1ts, 2us, 2um/s, 1 stained label | I80: Saint-Julien | J80: France | K80: 1200 | L80: 1800 | N80: =IF(M80="","",IF(P80=1,"On Increment","Off Increment")) | O80: View Lot Details | P80: =COUNTIF('Bid Steps'!A:A,M80) -> 0
...

Sheet Bid Steps
A1: Bid Steps
A2: 50
A3: 100
A4: 150
A5: 200
A6: 250
A7: 300
A8: 350
A9: 400
A10: 450
A11: 500
A12: 550
A13: 600
... A120: 1000000
